BEGIN:VCALENDAR
VERSION:2.0
PRODID:-//Center for RNA Biomedicine - ECPv6.15.17//NONSGML v1.0//EN
CALSCALE:GREGORIAN
METHOD:PUBLISH
X-ORIGINAL-URL:https://rna.umich.edu
X-WR-CALDESC:Events for Center for RNA Biomedicine
REFRESH-INTERVAL;VALUE=DURATION:PT1H
X-Robots-Tag:noindex
X-PUBLISHED-TTL:PT1H
BEGIN:VTIMEZONE
TZID:America/Detroit
BEGIN:DAYLIGHT
TZOFFSETFROM:-0500
TZOFFSETTO:-0400
TZNAME:EDT
DTSTART:20190310T070000
END:DAYLIGHT
BEGIN:STANDARD
TZOFFSETFROM:-0400
TZOFFSETTO:-0500
TZNAME:EST
DTSTART:20191103T060000
END:STANDARD
BEGIN:DAYLIGHT
TZOFFSETFROM:-0500
TZOFFSETTO:-0400
TZNAME:EDT
DTSTART:20200308T070000
END:DAYLIGHT
BEGIN:STANDARD
TZOFFSETFROM:-0400
TZOFFSETTO:-0500
TZNAME:EST
DTSTART:20201101T060000
END:STANDARD
BEGIN:DAYLIGHT
TZOFFSETFROM:-0500
TZOFFSETTO:-0400
TZNAME:EDT
DTSTART:20210314T070000
END:DAYLIGHT
BEGIN:STANDARD
TZOFFSETFROM:-0400
TZOFFSETTO:-0500
TZNAME:EST
DTSTART:20211107T060000
END:STANDARD
END:VTIMEZONE
BEGIN:VEVENT
DTSTART;TZID=America/Detroit:20200715T160000
DTEND;TZID=America/Detroit:20200715T170000
DTSTAMP:20260419T141824
CREATED:20200521T150349Z
LAST-MODIFIED:20200708T145922Z
UID:5814-1594828800-1594832400@rna.umich.edu
SUMMARY:RNA Collaborative Seminar Series - University of Rochester Center for RNA Biology
DESCRIPTION:Wednesday\, July 15\, 2020\, 4:00–5:00 pm\n\n\nHosted by University of Rochester Center for RNA Biology \n“Programmable RNA-targeting by CRISPR-Cas enzymes”\nMitch O’Connell\, Ph.D.\, Assistant Professor\, Department of Biochemistry & Biophysics; Member\, Center for RNA Biology \n“Coupled protein synthesis and ribosome-guided piRNA processing on mRNAs”\nXin Li\, Ph.D.\, Associate Professor\, Departments of Biochemistry & Biophysics\, and Urology; Member\, Center for RNA Biology \n\n\nModerator: Lynne Maquat\, PhD \n\n\nRecording of the session \nUpcoming seminars are available on the RNA Society’s new page: RNA Collaborative \n\nThe RNA Collaborative seminar series goal is to cross promote RNA research and strengthen and connect the RNA scientific community. These seminars are organized by the RNA Centers of the following institutions: MD Anderson Center for RNA Interference and Non-Coding RNAs; Harvard Medical School Initiative for RNA Medicine; NCI RNA Biology Initiative; RiboClub Sherbrooke\, Québec; The RNA Institute\, University At Albany; UMass Medical School\, RNA Therapeutics Institute; University of Michigan Center for RNA Biomedicine;University of Rochester Center for RNA Biology; Yale Center for RNA Science and Medicine
URL:https://rna.umich.edu/events/rna-collaborative-seminar-series-university-of-rochester-center-for-rna-biology/
CATEGORIES:External Talks
END:VEVENT
END:VCALENDAR