BEGIN:VCALENDAR
VERSION:2.0
PRODID:-//Center for RNA Biomedicine - ECPv6.15.17//NONSGML v1.0//EN
CALSCALE:GREGORIAN
METHOD:PUBLISH
X-ORIGINAL-URL:https://rna.umich.edu
X-WR-CALDESC:Events for Center for RNA Biomedicine
REFRESH-INTERVAL;VALUE=DURATION:PT1H
X-Robots-Tag:noindex
X-PUBLISHED-TTL:PT1H
BEGIN:VTIMEZONE
TZID:America/Detroit
BEGIN:DAYLIGHT
TZOFFSETFROM:-0500
TZOFFSETTO:-0400
TZNAME:EDT
DTSTART:20190310T070000
END:DAYLIGHT
BEGIN:STANDARD
TZOFFSETFROM:-0400
TZOFFSETTO:-0500
TZNAME:EST
DTSTART:20191103T060000
END:STANDARD
BEGIN:DAYLIGHT
TZOFFSETFROM:-0500
TZOFFSETTO:-0400
TZNAME:EDT
DTSTART:20200308T070000
END:DAYLIGHT
BEGIN:STANDARD
TZOFFSETFROM:-0400
TZOFFSETTO:-0500
TZNAME:EST
DTSTART:20201101T060000
END:STANDARD
BEGIN:DAYLIGHT
TZOFFSETFROM:-0500
TZOFFSETTO:-0400
TZNAME:EDT
DTSTART:20210314T070000
END:DAYLIGHT
BEGIN:STANDARD
TZOFFSETFROM:-0400
TZOFFSETTO:-0500
TZNAME:EST
DTSTART:20211107T060000
END:STANDARD
END:VTIMEZONE
BEGIN:VEVENT
DTSTART;TZID=America/Detroit:20200603T160000
DTEND;TZID=America/Detroit:20200603T170000
DTSTAMP:20260419T141255
CREATED:20200521T145259Z
LAST-MODIFIED:20200622T130108Z
UID:5802-1591200000-1591203600@rna.umich.edu
SUMMARY:RNA Collaborative Seminar Series - Sherbrooke\, Québec hosting
DESCRIPTION: \n\nWednesday\, June 3\, 2020\, 4:00–5:00 pm\n\nHosted by the Riboclub\, Sherbrooke\, Québec \n  \n\n\n\n\nNutrient-dependent control of RNA polymerase II elongation rate regulates gene expression programs by alternative polyadenylation\nFrancois Bachand\, Sherbrooke\n\n\nSpliceosome Structure: Can the Blind Men Now Describe the Elephant?\nAndrew McMillan\, University of Alberta\n\n\n\n\n\nModerator: Sherif Abou Elela\n\nFor the ZOOM link\, please email leandro.fequino@usherbrooke.ca\n\nRecording of the session \n\nThe RNA Collaborative seminar series goal is to cross promote RNA research and strengthen and connect the RNA scientific community. These seminars are organized by the RNA Centers of the following institutions: MD Anderson Center for RNA Interference and Non-Coding RNAs; Harvard Medical School Initiative for RNA Medicine; NCI RNA Biology Initiative; RiboClub Sherbrooke\, Québec; The RNA Institute\, University At Albany; UMass Medical School\, RNA Therapeutics Institute; University of Michigan Center for RNA Biomedicine;University of Rochester Center for RNA Biology; Yale Center for RNA Science and Medicine
URL:https://rna.umich.edu/events/rna-collaborative-seminar-series-sherbrroke-quebec-hosting/
CATEGORIES:External Talks
END:VEVENT
BEGIN:VEVENT
DTSTART;TZID=America/Detroit:20200617T160000
DTEND;TZID=America/Detroit:20200617T170000
DTSTAMP:20260419T141255
CREATED:20200521T145756Z
LAST-MODIFIED:20200604T185230Z
UID:5808-1592409600-1592413200@rna.umich.edu
SUMMARY:RNA Collaborative Seminar Series - UMass Medical School\, RNA Therapeutics Institute
DESCRIPTION:Wednesday\, June 17\, 2020\, 4:00–5:00 pm\n\n\nHosted by UMass Medical School\, RNA Therapeutics Institute \nAthma Pai\n“How efficiently do cells create mRNA? Balancing speed and accuracy in gene regulation” \n\nJonathan Watts\n“Fighting fire with fire (or RNA with RNA) in the treatment of COVID-19”  \n\nModerator: Phil Zamore\, PhD\n\nRegistration\n\n\nRecording of the session \n\nThe RNA Collaborative seminar series goal is to cross promote RNA research and strengthen and connect the RNA scientific community. These seminars are organized by the RNA Centers of the following institutions: MD Anderson Center for RNA Interference and Non-Coding RNAs; Harvard Medical School Initiative for RNA Medicine; NCI RNA Biology Initiative; RiboClub Sherbrooke\, Québec; The RNA Institute\, University At Albany; UMass Medical School\, RNA Therapeutics Institute; University of Michigan Center for RNA Biomedicine;University of Rochester Center for RNA Biology; Yale Center for RNA Science and Medicine
URL:https://rna.umich.edu/events/rna-collaborative-seminar-series-umass-medical-school-rna-therapeutics-institute/
CATEGORIES:External Talks
END:VEVENT
END:VCALENDAR