BEGIN:VCALENDAR
VERSION:2.0
PRODID:-//Center for RNA Biomedicine - ECPv6.15.17//NONSGML v1.0//EN
CALSCALE:GREGORIAN
METHOD:PUBLISH
X-ORIGINAL-URL:https://rna.umich.edu
X-WR-CALDESC:Events for Center for RNA Biomedicine
REFRESH-INTERVAL;VALUE=DURATION:PT1H
X-Robots-Tag:noindex
X-PUBLISHED-TTL:PT1H
BEGIN:VTIMEZONE
TZID:America/Detroit
BEGIN:DAYLIGHT
TZOFFSETFROM:-0500
TZOFFSETTO:-0400
TZNAME:EDT
DTSTART:20240310T070000
END:DAYLIGHT
BEGIN:STANDARD
TZOFFSETFROM:-0400
TZOFFSETTO:-0500
TZNAME:EST
DTSTART:20241103T060000
END:STANDARD
BEGIN:DAYLIGHT
TZOFFSETFROM:-0500
TZOFFSETTO:-0400
TZNAME:EDT
DTSTART:20250309T070000
END:DAYLIGHT
BEGIN:STANDARD
TZOFFSETFROM:-0400
TZOFFSETTO:-0500
TZNAME:EST
DTSTART:20251102T060000
END:STANDARD
BEGIN:DAYLIGHT
TZOFFSETFROM:-0500
TZOFFSETTO:-0400
TZNAME:EDT
DTSTART:20260308T070000
END:DAYLIGHT
BEGIN:STANDARD
TZOFFSETFROM:-0400
TZOFFSETTO:-0500
TZNAME:EST
DTSTART:20261101T060000
END:STANDARD
END:VTIMEZONE
BEGIN:VEVENT
DTSTART;TZID=America/Detroit:20250519T160000
DTEND;TZID=America/Detroit:20250519T170000
DTSTAMP:20260419T234036
CREATED:20250507T145740Z
LAST-MODIFIED:20250513T144940Z
UID:17151-1747670400-1747674000@rna.umich.edu
SUMMARY:RNA Innovation Seminar: Lydia Freddolino\, Ph.D.\, Associate Professor of Biological Chemistry\, Computational Medicine and Bioinformatics\, U-M Medical School
DESCRIPTION:“Transcriptional control by heterochromatin-like regions is a conserved feature across the bacterial kingdom”\nLydia Freddolino\, Ph.D.\nAssociate Professor\nBiological Chemistry\nComputational Medicine and Bioinformatics\nUniversity of Michigan Medical School\n  \n  \nIn-person: Kahn Auditorium\, BSRB | Hybrid link \nAbstract:\nDespite decades of dogma indicating that bacterial chromosomes are universally accessible to transcription\, more recent evidence has emerged indicating that bacteria in fact contain densely protein occupied\, transcriptionally silent regions in their genomes. We have observed such silent regions across every bacterial species so far tested using appropriate methods\, despite substantial differences in the molecular implementation in each case. Furthermore\, these regions can be partitioned roughly into constitutive and condition-dependent regions of silencing\, drawing clear functional analogies to constitutive vs. facultative heterochromatin in eukaryotes. I will present an overview of recent findings on the molecular architecture and functional roles played by bacterial heterochromatin-like regions\, along with an outlook of how these regions may interact with epigenetic phenomena and evolution. \nBiography:\nLydia Freddolino obtained her B.S. with Honors in Biology at the California Institute of Technology\, followed by Ph.D. work in the laboratory of Prof. Klaus Schulten at the University of Illinois at Urbana-Champaign\, focusing on large-scale molecular dynamics simulations of protein folding and assembly. She then pivoted to pursue postdoctoral training in bacterial systems biology under the guidance of Prof. Saeed Tavazoie\, first at Princeton University and later at Columbia University. Since joining the faculty at the University of Michigan in 2015\, Lydia has built her research program around two main pillars\, one centered on the transcriptional regulatory roles of bacterial chromatin\, and one focused on developing and applying new computational methods for predicting protein structure and function. \n  \nLinks:\nFreddolino Lab
URL:https://rna.umich.edu/events/rna-innovation-seminar-lydia-freddolino-ph-d-associate-professor-of-biological-chemistry-computational-medicine-and-bioinformatics-u-m-medical-school/
LOCATION:BSRB – Kahn Auditorium
END:VEVENT
END:VCALENDAR