BEGIN:VCALENDAR
VERSION:2.0
PRODID:-//Center for RNA Biomedicine - ECPv6.15.17//NONSGML v1.0//EN
CALSCALE:GREGORIAN
METHOD:PUBLISH
X-ORIGINAL-URL:https://rna.umich.edu
X-WR-CALDESC:Events for Center for RNA Biomedicine
REFRESH-INTERVAL;VALUE=DURATION:PT1H
X-Robots-Tag:noindex
X-PUBLISHED-TTL:PT1H
BEGIN:VTIMEZONE
TZID:America/Detroit
BEGIN:DAYLIGHT
TZOFFSETFROM:-0500
TZOFFSETTO:-0400
TZNAME:EDT
DTSTART:20220313T070000
END:DAYLIGHT
BEGIN:STANDARD
TZOFFSETFROM:-0400
TZOFFSETTO:-0500
TZNAME:EST
DTSTART:20221106T060000
END:STANDARD
BEGIN:DAYLIGHT
TZOFFSETFROM:-0500
TZOFFSETTO:-0400
TZNAME:EDT
DTSTART:20230312T070000
END:DAYLIGHT
BEGIN:STANDARD
TZOFFSETFROM:-0400
TZOFFSETTO:-0500
TZNAME:EST
DTSTART:20231105T060000
END:STANDARD
BEGIN:DAYLIGHT
TZOFFSETFROM:-0500
TZOFFSETTO:-0400
TZNAME:EDT
DTSTART:20240310T070000
END:DAYLIGHT
BEGIN:STANDARD
TZOFFSETFROM:-0400
TZOFFSETTO:-0500
TZNAME:EST
DTSTART:20241103T060000
END:STANDARD
END:VTIMEZONE
BEGIN:VEVENT
DTSTART;TZID=America/Detroit:20230213T120000
DTEND;TZID=America/Detroit:20230213T130000
DTSTAMP:20260420T234643
CREATED:20221102T123120Z
LAST-MODIFIED:20230127T141731Z
UID:10670-1676289600-1676293200@rna.umich.edu
SUMMARY:RNA Innovation Seminar: Gal Haimovich\, Weizmann Institute of Science
DESCRIPTION:“Why Did the RNA Cross the Nanotube? Many questions and (some) answers on tunneling-nanotube medicated RNA transfer between mammalian cells”\nGal Haimovich\, Ph.D. \nAssistant Staff Scientist\nDepartment of Molecular Genetics\nWeizmann Institute of Science\nVirtual only: zoom link \nAbstract: RNAs have been shown to undergo transfer between mammalian cells\, though the mechanism behind this phenomenon and its overall importance to cell physiology is not well understood. We found that full-length mRNAs and lncRNAs undergo direct cell-cell transfer via cytoplasmic extensions called tunneling nanotubes (TNTs)\, which connect donor and acceptor cells. Despite 10 years of research\, there are still major questions about this process such as which RNAs are transferred\, what is the mechanism\, how is this process regulated and what does the RNA do on the other side? I will review the evidence for TNT-mediated RNA transfer\, discuss the technical challenges in this field\, and provide some answers to these questions.
URL:https://rna.umich.edu/events/gal-haimovich/
END:VEVENT
BEGIN:VEVENT
DTSTART;TZID=America/Detroit:20230227T160000
DTEND;TZID=America/Detroit:20230227T170000
DTSTAMP:20260420T234643
CREATED:20221102T124955Z
LAST-MODIFIED:20230227T210355Z
UID:10674-1677513600-1677517200@rna.umich.edu
SUMMARY:RNA Innovation Seminar: Jane Jackman\, Ohio State University
DESCRIPTION:“A Complicated Family: Conserved & Distinct Functions of tRNA Methyltransferases from Yeast to Humans”\nJane Jackman\, Ph.D.\nProfessor of Chemistry & Biochemistry\nOhio State University\nIn-person: BSRB\, ABC seminar rooms / zoom link \nAbstract: RNA modifications are now known to be a ubiquitous and important feature of cellular RNAs. tRNA are among the most heavily modified of RNA species\, with a large network of often highly conserved enzymes dedicated to introducing distinct modifications into specific subsets of tRNAs in each organism. The expanding number of technological approaches to mapping tRNA modifications has enabled an explosion of information about the types and locations of modifications in many biological systems\, but functional information about many modifications has lagged. The tRNA methyltransferase Trm10 is a SPOUT family RNA methyltransferase that is absolutely conserved throughout Archaea and Eukarya\, but exhibits markedly different substrate specificities for nucleotide and tRNA substrates in different biological contexts. However\, the molecular basis for these distinct substrate specificities has not been demonstrated. Moreover\, despite multiple phenotypes associated with loss of Trm10 N1-methylation\, including a role in human disease\, the biological impact of Trm10 modification is not understood. We have taken a comprehensive approach utilizing enzymes from diverse organisms from Archaea to humans and multiple eukaryotic model systems to identify conserved and unique mechanistic and functional features of this essential family of tRNA methyltransferases.
URL:https://rna.umich.edu/events/jane-jackman/
END:VEVENT
END:VCALENDAR