BEGIN:VCALENDAR
VERSION:2.0
PRODID:-//Center for RNA Biomedicine - ECPv6.15.17//NONSGML v1.0//EN
CALSCALE:GREGORIAN
METHOD:PUBLISH
X-ORIGINAL-URL:https://rna.umich.edu
X-WR-CALDESC:Events for Center for RNA Biomedicine
REFRESH-INTERVAL;VALUE=DURATION:PT1H
X-Robots-Tag:noindex
X-PUBLISHED-TTL:PT1H
BEGIN:VTIMEZONE
TZID:America/Detroit
BEGIN:DAYLIGHT
TZOFFSETFROM:-0500
TZOFFSETTO:-0400
TZNAME:EDT
DTSTART:20200308T070000
END:DAYLIGHT
BEGIN:STANDARD
TZOFFSETFROM:-0400
TZOFFSETTO:-0500
TZNAME:EST
DTSTART:20201101T060000
END:STANDARD
BEGIN:DAYLIGHT
TZOFFSETFROM:-0500
TZOFFSETTO:-0400
TZNAME:EDT
DTSTART:20210314T070000
END:DAYLIGHT
BEGIN:STANDARD
TZOFFSETFROM:-0400
TZOFFSETTO:-0500
TZNAME:EST
DTSTART:20211107T060000
END:STANDARD
BEGIN:DAYLIGHT
TZOFFSETFROM:-0500
TZOFFSETTO:-0400
TZNAME:EDT
DTSTART:20220313T070000
END:DAYLIGHT
BEGIN:STANDARD
TZOFFSETFROM:-0400
TZOFFSETTO:-0500
TZNAME:EST
DTSTART:20221106T060000
END:STANDARD
END:VTIMEZONE
BEGIN:VEVENT
DTSTART;TZID=America/Detroit:20210113T160000
DTEND;TZID=America/Detroit:20210113T170000
DTSTAMP:20260420T125359
CREATED:20201014T174252Z
LAST-MODIFIED:20201014T174404Z
UID:7287-1610553600-1610557200@rna.umich.edu
SUMMARY:RNA Collaborative Seminar Series - NCI RNA Biology Initiative hosting
DESCRIPTION:For the seminar details\, visit: https://www.rnasociety.org/rna-collaborative-seminar-series
URL:https://rna.umich.edu/events/rna-collaborative-seminar-series-nci-rna-biology-initiative-hosting/
END:VEVENT
BEGIN:VEVENT
DTSTART;TZID=America/Detroit:20210125T090000
DTEND;TZID=America/Detroit:20210125T100000
DTSTAMP:20260420T125359
CREATED:20200819T124758Z
LAST-MODIFIED:20210104T173802Z
UID:6382-1611565200-1611568800@rna.umich.edu
SUMMARY:RNA Innovation Seminar: Elena Conti\, Max Planck Institute of Biochemistry
DESCRIPTION:Talk title: The RNA exosome complex: the Dr Jekyll and Mr Hyde of RNA degradation\nElena Conti\, PhD\nDirector\, Max Planck Institute of Biochemistry\n \nZOOM \nREGISTRATION REQUIRED: https://umich.zoom.us/webinar/register/WN_IjnWw1UcRkW8zcDeuAM2tQ \n  \nFlyer in PDF \nKeywords: molecular mechanisms\, RNA\, ribosome\, biochemistry\, cryo-EM\, X-ray crystallography \nAbstract: All RNAs in eukaryotic cells are eventually degraded. The RNA exosome is a conserved macromolecular machine that degrades a vast number and variety of RNAs. Exosome-mediated RNA degradation leads to the complete elimination of nuclear and cytoplasmic transcripts in turnover and quality control pathways\, and to the partial trimming of RNA precursors in nuclear processing pathways. How the exosome combines specificity and versatility to either eliminate or process RNAs has been a long-standing question. \nOver the years\, our group has used biochemical and structural approaches to understand how the exosome core complex channels RNA substrates for degradation and how it associates with its nuclear and cytoplasmic cofactors. Visualizing how the exosome cofactors interact with pre-ribosomes in the nucleus and with mature ribosomes in the cytoplasm has provided insights into the mechanisms with which different exosome-ribosome assemblies underpin opposite outcomes of RNA degradation: a constructive function of the nuclear exosome in the maturation of the large ribosomal subunit and a destructive function of the cytoplasmic exosome in the destruction of ribosome-bound mRNAs. Ongoing work is uncovering the unanticipated levels of regulation intrinsic to this multi-purpose degradation machinery. \nOur group has a long-standing interest in RNA metabolism\, with a particular focus on the molecular mechanisms of eukaryotic RNA transport and degradation. >more
URL:https://rna.umich.edu/events/elena-conti-max-planck-institute-of-biochemistry/
CATEGORIES:Seminar
END:VEVENT
END:VCALENDAR