BEGIN:VCALENDAR
VERSION:2.0
PRODID:-//Center for RNA Biomedicine - ECPv6.15.17//NONSGML v1.0//EN
CALSCALE:GREGORIAN
METHOD:PUBLISH
X-WR-CALNAME:Center for RNA Biomedicine
X-ORIGINAL-URL:https://rna.umich.edu
X-WR-CALDESC:Events for Center for RNA Biomedicine
REFRESH-INTERVAL;VALUE=DURATION:PT1H
X-Robots-Tag:noindex
X-PUBLISHED-TTL:PT1H
BEGIN:VTIMEZONE
TZID:America/Detroit
BEGIN:DAYLIGHT
TZOFFSETFROM:-0500
TZOFFSETTO:-0400
TZNAME:EDT
DTSTART:20220313T070000
END:DAYLIGHT
BEGIN:STANDARD
TZOFFSETFROM:-0400
TZOFFSETTO:-0500
TZNAME:EST
DTSTART:20221106T060000
END:STANDARD
BEGIN:DAYLIGHT
TZOFFSETFROM:-0500
TZOFFSETTO:-0400
TZNAME:EDT
DTSTART:20230312T070000
END:DAYLIGHT
BEGIN:STANDARD
TZOFFSETFROM:-0400
TZOFFSETTO:-0500
TZNAME:EST
DTSTART:20231105T060000
END:STANDARD
BEGIN:DAYLIGHT
TZOFFSETFROM:-0500
TZOFFSETTO:-0400
TZNAME:EDT
DTSTART:20240310T070000
END:DAYLIGHT
BEGIN:STANDARD
TZOFFSETFROM:-0400
TZOFFSETTO:-0500
TZNAME:EST
DTSTART:20241103T060000
END:STANDARD
END:VTIMEZONE
BEGIN:VEVENT
DTSTART;TZID=America/Detroit:20230927T180000
DTEND;TZID=America/Detroit:20230927T210000
DTSTAMP:20260420T092052
CREATED:20230802T145829Z
LAST-MODIFIED:20230822T162119Z
UID:11270-1695837600-1695848400@rna.umich.edu
SUMMARY:"Awakenings" Film Screening and Panel Discussion at the Michigan Theater
DESCRIPTION:“Awakenings” (1990) \nThe victims of an encephalitis epidemic many years ago have been catatonic ever since\, but now a new drug offers the prospect of reviving them.  \nJoin us for a pre-film panel discussion at 6:00 PM with neurology and neurologic disease physicians and scientists from University of Michigan’s Center for RNA Biomedicine: Michelle Hastings\, Ph.D.; Maria G. Castro\, Ph.D.; Christiane Wobus\, Ph.D.; Henry Paulson\, M.D.\, Ph.D.; Peter Todd\, M.D.\, Ph.D.; and moderated by Nils G. Walter\, Ph.D. \n\n\n\nFilm screening will begin at 7:00 PM. The story of a doctor’s extraordinary work in the Sixties with a group of catatonic patients he finds languishing in a Bronx hospital. Speculating that their rigidity may be akin to an extreme form of Parkinsonism\, he seeks permission from his skeptical superiors to treat them with L-dopa\, a drug that was used to treat Parkinson’s disease at the time. From director Penny Marshall and starring Robert De Niro and Robin Williams. \n121 minutes. Drama. PG-13. \n$10.50 General | $8.50 Students\, Seniors\, U.S. Veterans | $8 MTF Members \n\n \n\nPresented with the University of Michigan Center for RNA Biomedicine\, Michigan Medicine and Michigan Theater Foundation
URL:https://rna.umich.edu/events/awakenings-film-screening-and-panel-discussion-at-the-michigan-theatre/
END:VEVENT
END:VCALENDAR