BEGIN:VCALENDAR
VERSION:2.0
PRODID:-//Center for RNA Biomedicine - ECPv6.15.17//NONSGML v1.0//EN
CALSCALE:GREGORIAN
METHOD:PUBLISH
X-ORIGINAL-URL:https://rna.umich.edu
X-WR-CALDESC:Events for Center for RNA Biomedicine
REFRESH-INTERVAL;VALUE=DURATION:PT1H
X-Robots-Tag:noindex
X-PUBLISHED-TTL:PT1H
BEGIN:VTIMEZONE
TZID:America/Detroit
BEGIN:DAYLIGHT
TZOFFSETFROM:-0500
TZOFFSETTO:-0400
TZNAME:EDT
DTSTART:20220313T070000
END:DAYLIGHT
BEGIN:STANDARD
TZOFFSETFROM:-0400
TZOFFSETTO:-0500
TZNAME:EST
DTSTART:20221106T060000
END:STANDARD
BEGIN:DAYLIGHT
TZOFFSETFROM:-0500
TZOFFSETTO:-0400
TZNAME:EDT
DTSTART:20230312T070000
END:DAYLIGHT
BEGIN:STANDARD
TZOFFSETFROM:-0400
TZOFFSETTO:-0500
TZNAME:EST
DTSTART:20231105T060000
END:STANDARD
BEGIN:DAYLIGHT
TZOFFSETFROM:-0500
TZOFFSETTO:-0400
TZNAME:EDT
DTSTART:20240310T070000
END:DAYLIGHT
BEGIN:STANDARD
TZOFFSETFROM:-0400
TZOFFSETTO:-0500
TZNAME:EST
DTSTART:20241103T060000
END:STANDARD
END:VTIMEZONE
BEGIN:VEVENT
DTSTART;TZID=America/Detroit:20230911T160000
DTEND;TZID=America/Detroit:20230911T170000
DTSTAMP:20260420T052037
CREATED:20230801T151536Z
LAST-MODIFIED:20230825T170313Z
UID:11196-1694448000-1694451600@rna.umich.edu
SUMMARY:RNA Innovation Seminar: Graham Erwin\, Stanford University
DESCRIPTION:“Discovering and Targeting Repeat Expansions in Human Disease”\nGraham Erwin\, Ph.D.\nStanford Cancer Institute Postdoctoral Fellow\nDepartment of Genetics\nStanford University \n  \n  \nIn-person: BSRB\, ABC seminar rooms / hybrid link \nAbstract: Expansion of a single repetitive DNA sequence\, termed a tandem repeat (TR)\, is known to cause more than 50 diseases. However\, repeat expansions are often not explored beyond neurological and neurodegenerative disorders. Here\, I will discuss efforts to identify and target repeat expansions in human disease\, with a focus on neurodegenerative disease and cancer.
URL:https://rna.umich.edu/events/graham-erwin/
END:VEVENT
END:VCALENDAR