BEGIN:VCALENDAR
VERSION:2.0
PRODID:-//Center for RNA Biomedicine - ECPv6.15.17//NONSGML v1.0//EN
CALSCALE:GREGORIAN
METHOD:PUBLISH
X-ORIGINAL-URL:https://rna.umich.edu
X-WR-CALDESC:Events for Center for RNA Biomedicine
REFRESH-INTERVAL;VALUE=DURATION:PT1H
X-Robots-Tag:noindex
X-PUBLISHED-TTL:PT1H
BEGIN:VTIMEZONE
TZID:America/Detroit
BEGIN:DAYLIGHT
TZOFFSETFROM:-0500
TZOFFSETTO:-0400
TZNAME:EDT
DTSTART:20200308T070000
END:DAYLIGHT
BEGIN:STANDARD
TZOFFSETFROM:-0400
TZOFFSETTO:-0500
TZNAME:EST
DTSTART:20201101T060000
END:STANDARD
BEGIN:DAYLIGHT
TZOFFSETFROM:-0500
TZOFFSETTO:-0400
TZNAME:EDT
DTSTART:20210314T070000
END:DAYLIGHT
BEGIN:STANDARD
TZOFFSETFROM:-0400
TZOFFSETTO:-0500
TZNAME:EST
DTSTART:20211107T060000
END:STANDARD
BEGIN:DAYLIGHT
TZOFFSETFROM:-0500
TZOFFSETTO:-0400
TZNAME:EDT
DTSTART:20220313T070000
END:DAYLIGHT
BEGIN:STANDARD
TZOFFSETFROM:-0400
TZOFFSETTO:-0500
TZNAME:EST
DTSTART:20221106T060000
END:STANDARD
END:VTIMEZONE
BEGIN:VEVENT
DTSTART;TZID=America/Detroit:20210914T120000
DTEND;TZID=America/Detroit:20210914T130000
DTSTAMP:20260421T023116
CREATED:20210901T191030Z
LAST-MODIFIED:20210907T132755Z
UID:9316-1631620800-1631624400@rna.umich.edu
SUMMARY:BiolChem Seminar: Jason McLellan\, University of Texas at Austin
DESCRIPTION:“Structure-Function Studies of the SARS-CoV-2 Spike and Development of COVID-19 Interventions”\nJason McLellan\, University of Texas at Austin\nDepartment of Biological Chemistry seminar\nLocation: 3330 MS I\nHost: Janet Smith
URL:https://rna.umich.edu/events/jason-mclellan-university-of-texas-at-austin/
END:VEVENT
END:VCALENDAR