BEGIN:VCALENDAR
VERSION:2.0
PRODID:-//Center for RNA Biomedicine - ECPv6.15.17//NONSGML v1.0//EN
CALSCALE:GREGORIAN
METHOD:PUBLISH
X-ORIGINAL-URL:https://rna.umich.edu
X-WR-CALDESC:Events for Center for RNA Biomedicine
REFRESH-INTERVAL;VALUE=DURATION:PT1H
X-Robots-Tag:noindex
X-PUBLISHED-TTL:PT1H
BEGIN:VTIMEZONE
TZID:America/Detroit
BEGIN:DAYLIGHT
TZOFFSETFROM:-0500
TZOFFSETTO:-0400
TZNAME:EDT
DTSTART:20200308T070000
END:DAYLIGHT
BEGIN:STANDARD
TZOFFSETFROM:-0400
TZOFFSETTO:-0500
TZNAME:EST
DTSTART:20201101T060000
END:STANDARD
BEGIN:DAYLIGHT
TZOFFSETFROM:-0500
TZOFFSETTO:-0400
TZNAME:EDT
DTSTART:20210314T070000
END:DAYLIGHT
BEGIN:STANDARD
TZOFFSETFROM:-0400
TZOFFSETTO:-0500
TZNAME:EST
DTSTART:20211107T060000
END:STANDARD
BEGIN:DAYLIGHT
TZOFFSETFROM:-0500
TZOFFSETTO:-0400
TZNAME:EDT
DTSTART:20220313T070000
END:DAYLIGHT
BEGIN:STANDARD
TZOFFSETFROM:-0400
TZOFFSETTO:-0500
TZNAME:EST
DTSTART:20221106T060000
END:STANDARD
END:VTIMEZONE
BEGIN:VEVENT
DTSTART;VALUE=DATE:20210525
DTEND;VALUE=DATE:20210606
DTSTAMP:20260425T171223
CREATED:20210126T220010Z
LAST-MODIFIED:20210126T230016Z
UID:7829-1621900800-1622937599@rna.umich.edu
SUMMARY:26th Annual RNA Society Virtual meeting
DESCRIPTION:For more details\, visit: https://www2.rnasociety.org/conferences/rna-2021/ \n2021 ORGANIZERS: \nGene Yeo – University of California San Diego\, USA \nJörg Vogel – University of Würzburg\, Germany\nKatrin Karbstein – Scripps Research Institute\, Florida\, USA\nXavier Roca – Nanyang Technological University\, Singapore\nV. Narry Kim – Seoul National University\, South Korea\nAnna Marie Pyle – Yale University\, USA
URL:https://rna.umich.edu/events/26th-annual-rna-society-virtual-meeting/
END:VEVENT
END:VCALENDAR