BEGIN:VCALENDAR
VERSION:2.0
PRODID:-//Center for RNA Biomedicine - ECPv6.15.17//NONSGML v1.0//EN
CALSCALE:GREGORIAN
METHOD:PUBLISH
X-ORIGINAL-URL:https://rna.umich.edu
X-WR-CALDESC:Events for Center for RNA Biomedicine
REFRESH-INTERVAL;VALUE=DURATION:PT1H
X-Robots-Tag:noindex
X-PUBLISHED-TTL:PT1H
BEGIN:VTIMEZONE
TZID:America/Detroit
BEGIN:DAYLIGHT
TZOFFSETFROM:-0500
TZOFFSETTO:-0400
TZNAME:EDT
DTSTART:20200308T070000
END:DAYLIGHT
BEGIN:STANDARD
TZOFFSETFROM:-0400
TZOFFSETTO:-0500
TZNAME:EST
DTSTART:20201101T060000
END:STANDARD
BEGIN:DAYLIGHT
TZOFFSETFROM:-0500
TZOFFSETTO:-0400
TZNAME:EDT
DTSTART:20210314T070000
END:DAYLIGHT
BEGIN:STANDARD
TZOFFSETFROM:-0400
TZOFFSETTO:-0500
TZNAME:EST
DTSTART:20211107T060000
END:STANDARD
BEGIN:DAYLIGHT
TZOFFSETFROM:-0500
TZOFFSETTO:-0400
TZNAME:EDT
DTSTART:20220313T070000
END:DAYLIGHT
BEGIN:STANDARD
TZOFFSETFROM:-0400
TZOFFSETTO:-0500
TZNAME:EST
DTSTART:20221106T060000
END:STANDARD
END:VTIMEZONE
BEGIN:VEVENT
DTSTART;TZID=America/Detroit:20210405T160000
DTEND;TZID=America/Detroit:20210405T170000
DTSTAMP:20260425T152337
CREATED:20210126T233354Z
LAST-MODIFIED:20210310T173437Z
UID:7838-1617638400-1617642000@rna.umich.edu
SUMMARY:RNA Innovation Seminar: Natoya Peart\, University of Pennsylvania
DESCRIPTION:“Direct binding of ESRP1 to regulated transcripts is required for position-dependent splicing regulation”\nNatoya Peart\, Ph.D.\nPostdoctoral Researcher – Carstens Lab/Lynch Lab\nDepartment of Medicine/Department of Biochemistry and Molecular Biophysics\nUniversity of Pennsylvania \nZOOM \nREGISTRATION REQUIRED: https://umich.zoom.us/webinar/register/WN_0lUfePb0Qdac-cQZDpeiEQ \nFLYER IN PDF \nKEYWORDS: Alternative splicing\, RNAMap\, Esrp1 \nABSTRACT: Coordinated regulation of alternative splicing is essential to the establishment of cell identity. The Epithelial Splicing Regulatory Proteins (Esrps)\, ESRP1 and ESRP2\, are highly conserved paralogous proteins required for organogenesis of multiple organ systems and compromised function of Esrps contributes to human diseases and pathologies. Esrps are robustly expressed in the epithelial cells of the epidermis\, large and small intestines\, salivary glands\, stomach\, and a variety of other tissues\, where they are vital in promoting an epithelial splicing network. Although ESRP1 and ESRP2 share partial functional redundancy\, ESRP1 appears to play a larger role in regulating gene expression.\nUsing a combination of enhanced immunoprecipitation coupled with high throughput sequencing (eCLIP) in the epithelial cells of mouse epidermis and RNA sequencing analysis of alterations in splicing and total gene expression that result from epidermal ablation of Esrp1 and Esrp2 we generate a map of Esrp1 binding to RNA. We show that ESRP1 regulates splicing primarily through direct binding in a position-dependent manner to either promote exon inclusion or skipping. In particular\, we show that Esrp1 binding upstream of or withing alternatively spliced exons suppresses exon inclusion\, whilst binding downstream of the non-constitutive exon promotes exon inclusion. In addition\, we identified widespread binding of ESRP1 in 3’ and 5’ untranslated regions (UTRs) of genes enriched for epithelial cell function suggesting that it directly regulates post-transcriptional gene expression steps in addition to splicing.
URL:https://rna.umich.edu/events/natoya-peart/
END:VEVENT
END:VCALENDAR