BEGIN:VCALENDAR
VERSION:2.0
PRODID:-//Center for RNA Biomedicine - ECPv6.15.17//NONSGML v1.0//EN
CALSCALE:GREGORIAN
METHOD:PUBLISH
X-WR-CALNAME:Center for RNA Biomedicine
X-ORIGINAL-URL:https://rna.umich.edu
X-WR-CALDESC:Events for Center for RNA Biomedicine
REFRESH-INTERVAL;VALUE=DURATION:PT1H
X-Robots-Tag:noindex
X-PUBLISHED-TTL:PT1H
BEGIN:VTIMEZONE
TZID:America/Detroit
BEGIN:DAYLIGHT
TZOFFSETFROM:-0500
TZOFFSETTO:-0400
TZNAME:EDT
DTSTART:20190310T070000
END:DAYLIGHT
BEGIN:STANDARD
TZOFFSETFROM:-0400
TZOFFSETTO:-0500
TZNAME:EST
DTSTART:20191103T060000
END:STANDARD
BEGIN:DAYLIGHT
TZOFFSETFROM:-0500
TZOFFSETTO:-0400
TZNAME:EDT
DTSTART:20200308T070000
END:DAYLIGHT
BEGIN:STANDARD
TZOFFSETFROM:-0400
TZOFFSETTO:-0500
TZNAME:EST
DTSTART:20201101T060000
END:STANDARD
BEGIN:DAYLIGHT
TZOFFSETFROM:-0500
TZOFFSETTO:-0400
TZNAME:EDT
DTSTART:20210314T070000
END:DAYLIGHT
BEGIN:STANDARD
TZOFFSETFROM:-0400
TZOFFSETTO:-0500
TZNAME:EST
DTSTART:20211107T060000
END:STANDARD
END:VTIMEZONE
BEGIN:VEVENT
DTSTART;TZID=America/Detroit:20201214T160000
DTEND;TZID=America/Detroit:20201214T170000
DTSTAMP:20260420T124000
CREATED:20200818T125311Z
LAST-MODIFIED:20201202T175346Z
UID:6378-1607961600-1607965200@rna.umich.edu
SUMMARY:RNA Innovation Seminar: Narry Kim\, Seoul National University
DESCRIPTION:“RNA-based regulation of viruses”\nNarry Kim\, PhD\nProfessor\, School of Biological Sciences\nSeoul National University\nFounding Director\, RNA Research Center\nInstitute for Basic Science\n \nZOOM \nREGISTRATION REQUIRED: https://umich.zoom.us/webinar/register/WN_c9BFJM9dRGKn1WFF4L_wLg \nFLYER IN PDF \nAbstract: Viruses rely heavily on RNA binding proteins for their success as pathogens. In this presentation\, I will first talk about RNA tail modification which impacts viral and cellular gene expression. We found that TENT4 enzymes extend poly(A) tail of mRNAs with ‘mixed tails’ to delay deadenylation and stabilize the RNAs. Hepatitis B virus and human cytomegalovirus hijack this mechanism to efficiently stabilize their own RNAs. In the later part of my presentation\, I will discuss our recent work on SARS-CoV-2. To delineate the viral transcriptomic architecture and provide a high-resolution map of SARS-CoV-2\, we performed deep sequencing of infected cells. Our data define the canonical transcripts and noncanonical transcripts encoding unknown ORFs. More recently\, we have also performed proteomic analyses of the SARS-CoV-2 ribonucleoprotein complex. We identify many proteins that directly interact with viral RNAs and modulate viral growth. Functional investigation of the viral transcripts and host proteins discovered in this study will open new directions to the research efforts to elucidate the life cycle and pathogenicity of SARS-CoV-2. \n  \nBio: Narry Kim is a Professor in the School of Biological Sciences at Seoul National University and a founding director of RNA Research Center at Institute for Basic Science. She received her Ph.D. in 1998 from the University of Oxford where she studied lentiviruses and gene delivery. With keen interest in RNA biology\, she joined the Gideon Dreyfuss lab at the University of Pennsylvania and researched the role of the exon junction complex in mRNA surveillance. Her current research group investigates how genes are regulated at the RNA level\, with particular interests in microRNA\, mRNA\, and viral RNA. She is a recipient of the L’Oreal-UNESCO Women in Science Award\, Hoam Prize\, and Asan Prize\, and a member of KAS\, NAS and EMBO.
URL:https://rna.umich.edu/events/seminar-narry-kim-seoul-national-university/
END:VEVENT
END:VCALENDAR